{"text_format":"1","workbook":"xlsx","n_sheets":5,"sheets":["Vorlagen","Turnierabrechnung","Relegation","Sonstiges","Deb Neu"],"not_rendered":{"charts":0,"images":3,"macros":1,"external_links":0,"defined_names":3,"comments":0,"pivot_tables":0},"unopened":[],"bounds":{"document_bytes":16777216,"sheet_cells":100000,"rows_first":2000,"rows_last":500,"rows_between":2000,"halvings":0,"cell_chars":16384,"cell_head_chars":4096},"cells_cut":0,"cells_raw":0,"read":"whole","date_system":"1900"}

{"sheet":"Vorlagen","index":0,"n_rows":0,"n_cols":0,"rows_kept":0,"cut":false,"hidden":false,"merged":[]}

{"sheet":"Turnierabrechnung","index":1,"n_rows":45,"n_cols":29,"rows_kept":45,"cut":false,"hidden":true,"merged":[[6,0,6,5],[4,0,4,4],[2,0,2,4],[6,6,6,20],[4,6,4,20],[2,6,2,20],[0,0,0,31],[8,0,8,7],[8,10,8,14],[8,19,8,23],[17,0,17,2],[18,0,18,2],[11,8,11,11],[15,8,15,11],[16,8,16,11],[17,8,17,11],[18,8,18,11],[14,3,14,7],[15,3,15,7],[16,3,16,7],[17,3,17,7],[18,3,18,7],[10,3,11,7],[12,3,12,7],[10,0,11,2],[12,0,12,2],[13,3,13,7],[13,0,13,2],[10,8,10,15],[14,0,14,2],[15,0,15,2],[16,0,16,2],[15,12,15,15],[16,12,16,15],[12,28,12,31],[10,20,11,23],[10,24,11,27],[10,28,11,31],[13,8,13,11],[14,8,14,11],[13,12,13,15],[14,12,14,15],[13,20,13,23],[14,20,14,23],[10,16,11,19],[12,8,12,11],[12,12,12,15],[12,16,12,19],[12,20,12,23],[12,24,12,27],[11,12,11,15],[17,12,17,15],[18,12,18,15],[13,16,13,19],[14,16,14,19],[15,16,15,19],[16,16,16,19],[17,16,17,19],[18,16,18,19],[13,28,13,31],[14,28,14,31],[15,28,15,31],[16,28,16,31],[17,28,17,31],[18,28,18,31],[15,20,15,23],[16,20,16,23],[17,20,17,23],[18,20,18,23],[13,24,13,27],[14,24,14,27],[15,24,15,27],[16,24,16,27],[17,24,17,27],[18,24,18,27],[30,25,30,30],[32,25,32,30],[32,1,32,22],[30,1,30,22],[29,1,29,22],[28,1,28,22],[19,28,19,31],[21,0,21,31],[22,0,22,31],[24,25,24,30],[26,25,26,30],[28,25,28,30],[26,1,26,22],[25,1,25,22],[24,1,24,22],[19,16,19,19],[19,8,19,15],[19,0,19,2],[19,3,19,7],[19,20,19,23],[19,24,19,27],[26,23,26,24],[44,6,44,17],[40,1,40,30],[44,20,44,31],[37,1,37,10],[36,1,36,10],[38,1,38,10],[34,1,34,22],[38,25,38,30],[38,17,38,22],[43,6,43,17],[43,20,43,31]]}
["Einnahmen - Abrechnung"]
[]
["Datum:",null,null,null,null,null,"18.01.2019"]
[]
["Ausrichter:",null,null,null,null,null,"SV Höntrop"]
[]
["Veranstaltung:",null,null,null,null,null,"Vorrunde SparkassenMasters"]
[]
["Art der Veranstaltung:",null,null,null,null,null,null,null,null,"X","Hallenturnier",null,null,null,null,null,null,null,null,"Feldturnier"]
[]
["Datum / Tag",null,null,"Zur Verwendung für",null,null,null,null,"Eintrittskarten",null,null,null,null,null,null,null,"Anzahl verk. Karten",null,null,null,"Einzelpreis [Euro]",null,null,null,"Einnahme [Euro]"]
[null,null,null,null,null,null,null,null,"Anfangsnr.",null,null,null,"Endnummer"]
[1,null,null,2,null,null,null,null,3,null,null,null,4,null,null,null,5,null,null,null,6,null,null,null,7,null,null,null,8]
["1. Tag",null,null,"Jugendliche",null,null,null,null,1,null,null,null,2,null,null,null,{"$f":"IF(ISBLANK(M14),\"\",M14-I14+1)","v":2},null,null,null,3,null,null,null,{"$f":"IF(ISBLANK(U14),\"\",Q14*U14)","v":6}]
["1. Tag",null,null,"Vollzahler",null,null,null,null,4,null,null,null,5,null,null,null,2,null,null,null,6,null,null,null,12]
["2. Tag",null,null,"Jugendliche",null,null,null,null,7,null,null,null,8,null,null,null,2,null,null,null,9,null,null,null,18]
["2. Tag",null,null,"Vollzahler",null,null,null,null,10,null,null,null,11,null,null,null,2,null,null,null,12,null,null,null,24]
["3. Tag",null,null,"Jugendliche",null,null,null,null,null,null,null,null,null,null,null,null,"",null,null,null,null,null,null,null,""]
["3. Tag",null,null,"Vollzahler",null,null,null,null,null,null,null,null,null,null,null,null,"",null,null,null,null,null,null,null,""]
[null,null,null,null,null,null,null,null,"Anzahl Zuschauer:",null,null,null,null,null,null,null,{"$f":"SUM(Q14:T19)","v":8},null,null,null,"Gesamt:",null,null,null,{"$f":"SUM(Y14:AB19)","v":60}]
[]
["Die Abrechung erfolgt gemäß § 70, Absatz 2 der Spielordnung des WDFV,"]
["wie nachstehend aufgeführt:"]
[]
[null,"Bruttoeinnahme (Einnahme laut vorstehender Abrechnung)",null,null,null,null,null,null,null,null,null,null,null,null,null,null,null,null,null,null,null,null,null,null,null,{"$f":"Y20","v":60}]
[null,"abzüglich"]
["a)",{"$f":"IF(X27=0,\"ohne Mehrwertsteuerberechnung\",IF(X27=6.54,\"7% Mehrwertsteuer von der Bruttoeinnahme\",\"19% Mehrwertsteuer von der Bruttoeinnahme\"))","v":"19% Mehrwertsteuer von der Bruttoeinnahme"},null,null,null,null,null,null,null,null,null,null,null,null,null,null,null,null,null,null,null,null,null,{"$f":"IF(G7=\"eigenes Vereinsturnier (keine MwSt.)\",0,IF(G7=\"eigenes Vereinsturnier (7% MwSt.)\",6.54,15.97))","v":15.97},null,{"$f":"Z25*X27/100","v":9.5820000000000007}]
[]
[null,"Bruttoeinnahme nach Abzug der Mehrwertsteuer",null,null,null,null,null,null,null,null,null,null,null,null,null,null,null,null,null,null,null,null,null,null,null,{"$f":"Z25-Z27","v":50.417999999999999}]
[null,"abzüglich"]
["b)","Schiedsrichterkosten (entsprechend der Abrechungsbelege)",null,null,null,null,null,null,null,null,null,null,null,null,null,null,null,null,null,null,null,null,null,null,null,0.5]
[]
[null,"Nettoeinnahme",null,null,null,null,null,null,null,null,null,null,null,null,null,null,null,null,null,null,null,null,null,null,null,{"$f":"Z29-Z31","v":49.917999999999999}]
[]
[null,"Abgabe an den Kreis (falls positiv)"]
[]
[{"$f":"IF(N37=\"keine Abgabe\",\"X\",\"\")","v":""},"keine Abgabe",null,null,null,null,null,null,null,null,null,null,null,"Hallenvorrunde (10 %)"]
[{"$f":"IF(N37=\"Hallenvorrunde (10 %)\",\"X\",\"\")","v":"X"},"Hallenvorrunde (10 %)"]
[{"$f":"IF(N37=\"Hallenendrunde (25 %)\",\"X\",\"\")","v":""},"Hallenendrunde (25 %)",null,null,null,null,null,null,null,null,null,null,null,{"$f":"IF($A$38=\"X\",0.1,IF($A$39=\"X\",0.25,0))","v":0.1},null,null,null,"Kreisabgabe:",null,null,null,null,null,null,null,{"$f":"Z33*N39","v":4.9918000000000005}]
[]
[null,"Der Betrag wird innerhalb von 10 Tagen auf die Kreiskasse überwiesen!"]
[]
[]
["Unterschriften:"]
[null,null,null,null,null,null,"Ausrichtender Verein",null,null,null,null,null,null,null,null,null,null,null,null,null,"Kreisvertreter"]

{"sheet":"Relegation","index":2,"n_rows":91,"n_cols":34,"rows_kept":91,"cut":false,"hidden":true,"merged":[[14,1,14,5],[26,16,26,19],[3,29,3,31],[16,21,16,22],[16,23,16,31],[18,21,18,22],[18,23,18,31],[20,21,20,22],[20,23,20,31],[8,23,8,31],[10,21,10,22],[10,23,10,31],[12,21,12,22],[12,23,12,31],[14,21,14,22],[14,23,14,31],[37,25,37,30],[26,0,26,2],[27,0,27,2],[28,0,28,2],[27,12,27,15],[26,3,26,7],[25,16,25,19],[50,9,50,15],[51,9,51,15],[27,3,27,7],[28,3,28,7],[47,1,47,8],[48,1,48,8],[49,1,49,8],[50,1,50,8],[29,8,29,15],[29,0,29,7],[37,1,37,22],[39,1,39,22],[31,0,31,31],[32,0,32,31],[33,25,33,30],[35,25,35,30],[39,25,39,30],[8,21,8,22],[16,1,16,5],[18,1,18,5],[38,1,38,22],[25,8,25,11],[26,8,26,11],[25,12,25,15],[26,12,26,15],[25,20,25,23],[26,20,26,23],[25,3,25,7],[25,0,25,2],[35,1,35,22],[34,1,34,22],[33,1,33,22],[20,1,20,5],[10,7,10,19],[12,7,12,19],[14,7,14,19],[16,7,16,19],[18,7,18,19],[20,7,20,19],[10,1,10,5],[12,1,12,5],[0,0,0,31],[2,1,2,4],[8,1,8,4],[2,7,2,17],[4,1,4,6],[4,7,4,17],[3,20,3,28],[24,28,24,31],[22,20,23,23],[22,24,23,27],[22,28,23,31],[22,0,23,2],[24,0,24,2],[22,8,22,15],[23,12,23,15],[22,3,23,7],[24,3,24,7],[22,16,23,19],[23,8,23,11],[8,7,8,19],[6,1,6,5],[6,7,6,17],[6,21,6,24],[6,28,6,31],[24,8,24,11],[24,12,24,15],[24,16,24,19],[24,20,24,23],[24,24,24,27],[28,12,28,15],[27,8,27,11],[28,8,28,11],[27,16,27,19],[28,16,28,19],[25,28,25,31],[26,28,26,31],[27,28,27,31],[28,28,28,31],[27,20,27,23],[28,20,28,23],[25,24,25,27],[26,24,26,27],[29,16,29,19],[29,20,29,23],[29,24,29,27],[29,28,29,31],[27,24,27,27],[28,24,28,27],[41,25,41,30],[43,25,43,30],[43,1,43,22],[41,1,41,22],[51,1,51,8],[52,1,52,8],[53,1,53,8],[47,9,47,15],[59,6,59,17],[45,21,45,31],[59,20,59,31],[52,9,52,15],[53,9,53,15],[48,9,48,15],[49,9,49,15],[90,1,90,17],[58,6,58,17],[58,20,58,31],[55,9,55,15],[62,0,63,31],[64,0,64,31],[65,0,65,31],[68,2,69,30],[80,2,80,31]]}
["Einnahmen - Abrechnung"]
[]
[null,"Datum:",null,null,null,null,null,"18.01.2019"]
[null,null,null,null,null,null,null,null,null,null,null,null,null,null,null,null,null,null,null,null,"Teilnehmende Vereine:",null,null,null,null,null,null,null,null,{"$f":"IF(AH4=0,\"\",AH4)","v":4},null,null,null,{"$f":"COUNTA(H11,H13,H15,H17,H19,H21)","v":4}]
[null,"Veranstaltung:",null,null,null,null,null,"Relegation"]
[]
[null,"Spielklasse:",null,null,null,null,null,"Kreisliga B",null,null,null,null,null,null,null,null,null,null,null,null,"X","Aufstieg",null,null,null,null,null,null,"Abstieg"]
[]
[null,"Ausrichter:",null,null,null,null,null,"AC Hattingen",null,null,null,null,null,null,null,null,null,null,null,null,null,"VK:",null,{"$f":"IF(ISERROR(AH9),\"\",AH9)","v":"21060165"},null,null,null,null,null,null,null,null,null,{"$f":"VLOOKUP(H9,'Deb Neu'!A:B,2,FALSE)","v":"21060165"}]
[]
[null,"Gastverein:",null,null,null,null,null,"AFC Bochum",null,null,null,null,null,null,null,null,null,null,null,null,null,"VK:",null,{"$f":"IF(ISERROR(AH11),\"\",AH11)","v":"21060108"},null,null,null,null,null,null,null,null,null,{"$f":"VLOOKUP(H11,'Deb Neu'!A:B,2,FALSE)","v":"21060108"}]
[]
[null,"Gastverein:",null,null,null,null,null,"Amacspor Dahlhausen",null,null,null,null,null,null,null,null,null,null,null,null,null,"VK:",null,{"$f":"IF(ISERROR(AH13),\"\",AH13)","v":"21060023"},null,null,null,null,null,null,null,null,null,{"$f":"VLOOKUP(H13,'Deb Neu'!A:B,2,FALSE)","v":"21060023"}]
[]
[null,"Gastverein:",null,null,null,null,null,"BV Hiltrop",null,null,null,null,null,null,null,null,null,null,null,null,null,"VK:",null,{"$f":"IF(ISERROR(AH15),\"\",AH15)","v":"21060025"},null,null,null,null,null,null,null,null,null,{"$f":"VLOOKUP(H15,'Deb Neu'!A:B,2,FALSE)","v":"21060025"}]
[]
[null,"Gastverein:",null,null,null,null,null,"BV Westfalia Bochum",null,null,null,null,null,null,null,null,null,null,null,null,null,"VK:",null,{"$f":"IF(ISERROR(AH17),\"\",AH17)","v":"21060017"},null,null,null,null,null,null,null,null,null,{"$f":"VLOOKUP(H17,'Deb Neu'!A:B,2,FALSE)","v":"21060017"}]
[]
[null,"Gastverein:",null,null,null,null,null,null,null,null,null,null,null,null,null,null,null,null,null,null,null,"VK:",null,{"$f":"IF(ISERROR(AH19),\"\",AH19)","v":""},null,null,null,null,null,null,null,null,null,{"$f":"VLOOKUP(H19,'Deb Neu'!A:B,2,FALSE)","v":{"$error":"#N/A"}}]
[]
[null,"Gastverein:",null,null,null,null,null,null,null,null,null,null,null,null,null,null,null,null,null,null,null,"VK:",null,{"$f":"IF(ISERROR(AH21),\"\",AH21)","v":""},null,null,null,null,null,null,null,null,null,{"$f":"VLOOKUP(H21,'Deb Neu'!A:B,2,FALSE)","v":{"$error":"#N/A"}}]
[]
["Farbe",null,null,"Zur Verwendung für",null,null,null,null,"Eintrittskarten",null,null,null,null,null,null,null,"Anzahl verk. Karten",null,null,null,"Einzelpreis [Euro]",null,null,null,"Einnahme [Euro]"]
[null,null,null,null,null,null,null,null,"Anfangsnr.",null,null,null,"Endnummer"]
[1,null,null,2,null,null,null,null,3,null,null,null,4,null,null,null,5,null,null,null,6,null,null,null,7,null,null,null,8]
["gelb",null,null,"Opa",null,null,null,null,1,null,null,null,2,null,null,null,{"$f":"IF(ISBLANK(M26),\"\",M26-I26+1)","v":2},null,null,null,3,null,null,null,{"$f":"IF(ISBLANK(U26),\"\",Q26*U26)","v":6}]
["grün",null,null,"Oma",null,null,null,null,4,null,null,null,5,null,null,null,{"$f":"IF(ISBLANK(M27),\"\",M27-I27+1)","v":2},null,null,null,6,null,null,null,{"$f":"IF(ISBLANK(U27),\"\",Q27*U27)","v":12}]
[null,null,null,null,null,null,null,null,null,null,null,null,null,null,null,null,{"$f":"IF(ISBLANK(M28),\"\",M28-I28+1)","v":""},null,null,null,null,null,null,null,{"$f":"IF(ISBLANK(U28),\"\",Q28*U28)","v":""}]
[null,null,null,null,null,null,null,null,null,null,null,null,null,null,null,null,{"$f":"IF(ISBLANK(M29),\"\",M29-I29+1)","v":""},null,null,null,null,null,null,null,{"$f":"IF(ISBLANK(U29),\"\",Q29*U29)","v":""}]
[null,null,null,null,null,null,null,null,"Anzahl Zuschauer:",null,null,null,null,null,null,null,{"$f":"SUM(Q26:T29)","v":4},null,null,null,"Gesamt:",null,null,null,{"$f":"SUM(Y26:AB29)","v":18}]
[]
["Die Abrechung erfolgt gemäß § 70, Absatz 2 der Spielordnung des WDFV."]
["wie nachstehend aufgeführt:"]
[null,"Bruttoeinnahme (Einnahme laut vorstehender Abrechnung)",null,null,null,null,null,null,null,null,null,null,null,null,null,null,null,null,null,null,null,null,null,null,null,{"$f":"Y30","v":18}]
[null,"abzüglich"]
["a)","19% Mehrwertsteuer von der Bruttoeinnahme",null,null,null,null,null,null,null,null,null,null,null,null,null,null,null,null,null,null,null,null,null,null,null,{"$f":"Z34*15.97/100","v":2.8746000000000005}]
[]
[null,"Bruttoeinnahme nach Abzug der Mehrwertsteuer",null,null,null,null,null,null,null,null,null,null,null,null,null,null,null,null,null,null,null,null,null,null,null,{"$f":"Z34-Z36","v":15.125399999999999}]
[null,"abzüglich"]
["b)","15 % für die Gestellung des Platzes",null,null,null,null,null,null,null,null,null,null,null,null,null,null,null,null,null,null,null,null,null,null,null,{"$f":"Z38*15/100","v":2.2688099999999998}]
[]
["c)","Schiedsrichterkosten (entsprechend der Abrechungsbelege)",null,null,null,null,null,null,null,null,null,null,null,null,null,null,null,null,null,null,null,null,null,null,null,999]
[]
[null,"Nettoeinnahme",null,null,null,null,null,null,null,null,null,null,null,null,null,null,null,null,null,null,null,null,null,null,null,{"$f":"Z34-Z36-Z40-Z42","v":-986.14341000000002}]
[]
[null,null,null,null,null,null,null,null,null,null,null,null,null,null,null,null,null,null,null,null,null,"Fortsetzung Seite 2"]
[]
[null,"Gastverein 1:",null,null,null,null,null,null,null,{"$f":"IF(AH4>=1,Z44/(AH4+1),\"\")","v":-197.22868199999999}]
[null,"Gastverein 2:",null,null,null,null,null,null,null,{"$f":"IF(AH4>=2,J48,\"\")","v":-197.22868199999999}]
[null,"Gastverein 3:",null,null,null,null,null,null,null,{"$f":"IF(AH4>=3,J48,\"\")","v":-197.22868199999999}]
[null,"Gastverein 4:",null,null,null,null,null,null,null,{"$f":"IF(AH4>=4,J48,\"\")","v":-197.22868199999999}]
[null,"Gastverein 5:",null,null,null,null,null,null,null,{"$f":"IF(AH4>=5,J48,\"\")","v":""}]
[null,"Gastverein 6:",null,null,null,null,null,null,null,{"$f":"IF(AH4>=6,J48,\"\")","v":""}]
[null,"Fußballkreis:",null,null,null,null,null,null,null,{"$f":"J48","v":-197.22868199999999}]
[]
[null,"Gesamt:",null,null,null,null,null,null,null,{"$f":"SUM(J48:P55)","v":-986.1434099999999}]
[]
[]
["Unterschriften:"]
[null,null,null,null,null,null,"Platzverein / Ausrichter",null,null,null,null,null,null,null,null,null,null,null,null,null,"Gastverein / Kreisaufsicht"]
[]
[]
["Bei DFB - Entscheidungs- und Relegationsspielen müssen die Mitglieder des Platzvereins den vollen Eintrittspreis zahlen."]
[]
["Vereinsseitige Vergünstigungen sind für diese Spiele unzulässig."]
["Die Abrechnung ist gemeinsam durchzuführen."]
[]
["Die Abrechnung erfolgt gemäß § 70 der Spielordnung des WDFV:"]
[null,"1.","Bei Entscheidung- und Relegationsspielen wird die Reineinnahme zu gleichen Teilen unter den teilnehmenden Vereinen und dem Fußballkreis aufgeteilt."]
[]
[]
["Der Ausrichter teilt dem Kreiskassierer folgendes mit:"]
[]
[null,"1.","Die Namen der teilnhemenden Mannschaften;"]
[]
[null,"2.","Die Zuschauergesamteinnahmen (es sollten auch die Nummern der benutzten"]
[null,null,"Eintrittskarten eingetragen werden);"]
[]
[null,"3.","Die Schiedsrichterkosten;"]
[]
[null,"4.","Es müssen die Originalabrechnungsunterlagen zugesandt werden, da die"]
[null,null,"Abrechnung und Versteuerung über den Verband stattfindet;"]
[]
[null,"5.","Alle anderen Berechnungen wie MwSt. (19%), Platzgestellung (15%) und Aufteilung"]
[null,null,"auf die Vereine und Kreis nimmt der KK vor;"]
[]
[null,"6.","Der Ausrichter bezahlt die Schiedsrichter sofort vor Ort und behält alle anderen"]
[null,null,"Gelder ein. Der KK wird dann die jeweiligen Beträge über die Buchhaltung in Form"]
[null,null,"von Rechnungen und Gutschriften verrechnen."]
[]
[null,"Der Anteil wird nicht in bar ausgezahlt!"]

{"sheet":"Sonstiges","index":3,"n_rows":5,"n_cols":3,"rows_kept":5,"cut":false,"hidden":true,"merged":[]}
["eigenes Vereinsturnier (keine MwSt.)","keine Abgabe"]
["eigenes Vereinsturnier (7% MwSt.)","Hallenvorrunde (10 %)","Kreisliga A"]
["eigenes Vereinsturnier (19% MwSt.)","Hallenendrunde (25 %)","Kreisliga B"]
["Vorrunde SparkassenMasters",null,"Kreisliga C"]
["Endrunde SparkassenMasters"]

{"sheet":"Deb Neu","index":4,"n_rows":101,"n_cols":2,"rows_kept":101,"cut":false,"hidden":true,"merged":[]}
[]
["AC Hattingen",{"$f":"\"21060165\"","v":"21060165"}]
["AFC Bochum",{"$f":"\"21060108\"","v":"21060108"}]
["Amacspor Dahlhausen",{"$f":"\"21060023\"","v":"21060023"}]
["BV Hiltrop",{"$f":"\"21060025\"","v":"21060025"}]
["BV Langendreer 07",{"$f":"\"21060043\"","v":"21060043"}]
["BV Westfalia Bochum",{"$f":"\"21060017\"","v":"21060017"}]
["BW Genclerbirligi",{"$f":"\"21060125\"","v":"21060125"}]
["BW Grümerbaum",{"$f":"\"21060029\"","v":"21060029"}]
["BW Weitmar 09",{"$f":"\"21060124\"","v":"21060124"}]
["CF Kurdistan Bochum",{"$f":"\"21060140\"","v":"21060140"}]
["Concordia Wiemelhausen",{"$f":"\"21060007\"","v":"21060007"}]
["CSG Westpark",{"$f":"\"21060109\"","v":"21060109"}]
["CSV SF Linden",{"$f":"\"21060164\"","v":"21060164"}]
["DJK Adler Dahlhausen",{"$f":"\"21060020\"","v":"21060020"}]
["DJK Adler Riemke",{"$f":"\"21060086\"","v":"21060086"}]
["DJK AFB 06 Bochum",{"$f":"\"21060006\"","v":"21060006"}]
["DJK Arminia Bochum",{"$f":"\"21060090\"","v":"21060090"}]
["DJK Märkisch Hattingen",{"$f":"\"21060085\"","v":"21060085"}]
["DJK Preußen Bochum",{"$f":"\"21060089\"","v":"21060089"}]
["DJK RW Markania Bochum",{"$f":"\"21060093\"","v":"21060093"}]
["DJK SF Linden",{"$f":"\"21060088\"","v":"21060088"}]
["DJK Teutonia Ehrenfeld",{"$f":"\"21060092\"","v":"21060092"}]
["DJK TuS Hordel",{"$f":"\"21060027\"","v":"21060027"}]
["DJK TuS Ruhrtal Witten",{"$f":"\"21060076\"","v":"21060076"}]
["DJK Viktoria Bochum",{"$f":"\"21060084\"","v":"21060084"}]
["DJK Wattenscheid",{"$f":"\"21060060\"","v":"21060060"}]
["ESV Langendreer-West",{"$f":"\"21060044\"","v":"21060044"}]
["FC Altenbochum",{"$f":"\"21060008\"","v":"21060008"}]
["FC Azadi Bochum",{"$f":"\"21060136\"","v":"21060136"}]
["FC Bochum 10/21",{"$f":"\"21060014\"","v":"21060014"}]
["FC Hasretspor Bochum",{"$f":"\"21060152\"","v":"21060152"}]
["FC Höntrop 80",{"$f":"\"21060130\"","v":"21060130"}]
["FC Italia Bochum",{"$f":"\"21060114\"","v":"21060114"}]
["FC Neuruhrort",{"$f":"\"21060050\"","v":"21060050"}]
["FC Sandzak Hattingen",{"$f":"\"21060163\"","v":"21060163"}]
["FC Vorwärts Kornharpen",{"$f":"\"21060162\"","v":"21060162"}]
["FSV Sevinghausen",{"$f":"\"21060015\"","v":"21060015"}]
["FSV Witten",{"$f":"\"21060004\"","v":"21060004"}]
["Hammerthaler SV",{"$f":"\"21060033\"","v":"21060033"}]
["Hedefspor Hattingen",{"$f":"\"21060133\"","v":"21060133"}]
["LFC Laer",{"$f":"\"21060042\"","v":"21060042"}]
["Polizeisportvereinigung Bochum",{"$f":"\"21060011\"","v":"21060011"}]
["Portugiesischer SV Witten",{"$f":"\"21060032\"","v":"21060032"}]
["PSV Ennepe",{"$f":"\"21060039\"","v":"21060039"}]
["Rasensport Weitmar 09",{"$f":"\"21060094\"","v":"21060094"}]
["RW Langendreer",{"$f":"\"21060168\"","v":"21060168"}]
["RSV Hattingen",{"$f":"\"21060166\"","v":"21060166"}]
["RW Leithe",{"$f":"\"21060047\"","v":"21060047"}]
["RW Stiepel",{"$f":"\"21060056\"","v":"21060056"}]
["SC Croatia Bochum",{"$f":"\"21060156\"","v":"21060156"}]
["SC oberstüter",{"$f":"\"21060051\"","v":"21060051"}]
["SC Post Altenbochum",{"$f":"\"21060001\"","v":"21060001"}]
["SC Union Bergen",{"$f":"\"21060005\"","v":"21060005"}]
["SC Weitmar 45",{"$f":"\"21060064\"","v":"21060064"}]
["SC Werne 2002",{"$f":"\"21060070\"","v":"21060070"}]
["SF Durchholz",{"$f":"\"21060022\"","v":"21060022"}]
["SF Schnee",{"$f":"\"21060096\"","v":"21060096"}]
["SF Westenfeld",{"$f":"\"21060071\"","v":"21060071"}]
["SG Hill Hattingen",{"$f":"\"21060104\"","v":"21060104"}]
["SG Linden-Dahlhausen",{"$f":"\"21060021\"","v":"21060021"}]
["SG Polonia Bochum",{"$f":"\"21060242\"","v":"21060242"}]
["SG Wattenscheid 09",{"$f":"\"21060062\"","v":"21060062"}]
["SG Welper",{"$f":"\"21060066\"","v":"21060066"}]
["SK Bochum",{"$f":"\"21060167\"","v":"21060167"}]
["SpVgg. Witten 92/30",{"$f":"\"21060075\"","v":"21060075"}]
["SpVgg.Gerthe",{"$f":"\"21060153\"","v":"21060153"}]
["SuS Wilhelmshöhe",{"$f":"\"21060072\"","v":"21060072"}]
["SV Altenbochum 01",{"$f":"\"21060002\"","v":"21060002"}]
["SV Bommern",{"$f":"\"21060018\"","v":"21060018"}]
["SV Eintracht Grumme",{"$f":"\"21060030\"","v":"21060030"}]
["SV Germania Bochum-West",{"$f":"\"21060009\"","v":"21060009"}]
["SV Hellas Bochum",{"$f":"\"21060079\"","v":"21060079"}]
["SV Herbede",{"$f":"\"21060036\"","v":"21060036"}]
["SV Höntrop",{"$f":"\"21060038\"","v":"21060038"}]
["SV Langendreer 04",{"$f":"\"21060160\"","v":"21060160"}]
["SV Langendreer 04/13",{"$f":"\"21060045\"","v":"21060045"}]
["SV Phönix Bochum",{"$f":"\"21060010\"","v":"21060010"}]
["SV Steinkuhl",{"$f":"\"21060055\"","v":"21060055"}]
["SV Teutonia Riemke",{"$f":"\"21060053\"","v":"21060053"}]
["SV Türkiyemspor Bochum",{"$f":"\"21060082\"","v":"21060082"}]
["SV Vöde",{"$f":"\"21060058\"","v":"21060058"}]
["SV Vormholz",{"$f":"\"21060097\"","v":"21060097"}]
["SV Waldesrand Linden",{"$f":"\"21060059\"","v":"21060059"}]
["SW Eppendorf",{"$f":"\"21060024\"","v":"21060024"}]
["SW Wattenscheid 08",{"$f":"\"21060161\"","v":"21060161"}]
["TuRa Rüdinghausen",{"$f":"\"21060054\"","v":"21060054"}]
["Türkischer SV Witten",{"$f":"\"21060137\"","v":"21060137"}]
["TuS Blankenstein",{"$f":"\"21060048\"","v":"21060048"}]
["TuS Harpen",{"$f":"\"21060034\"","v":"21060034"}]
["TuS Hattingen",{"$f":"\"21060035\"","v":"21060035"}]
["TuS Heven",{"$f":"\"21060037\"","v":"21060037"}]
["TuS Kaltehardt",{"$f":"\"21060040\"","v":"21060040"}]
["TuS Querenburg",{"$f":"\"21060052\"","v":"21060052"}]
["TuS Stockum",{"$f":"\"21060057\"","v":"21060057"}]
["VfB Günnigfeld",{"$f":"\"21060031\"","v":"21060031"}]
["VfB Langendreerholz",{"$f":"\"21060046\"","v":"21060046"}]
["VfB Witten-Annen",{"$f":"\"21060003\"","v":"21060003"}]
["VfL Bochum 1848",{"$f":"\"21060016\"","v":"21060016"}]
["VfL Winz-Baak",{"$f":"\"21060073\"","v":"21060073"}]
["WSV Bochum",{"$f":"\"21060067\"","v":"21060067"}]